BEGIN:VCALENDAR
VERSION:2.0
PRODID:-//Spielraum Bielefeld - ECPv4.0//NONSGML v1.0//EN
CALSCALE:GREGORIAN
METHOD:PUBLISH
X-WR-CALNAME:Spielraum Bielefeld
X-ORIGINAL-URL:http://spielraum-bielefeld.de
X-WR-CALDESC:Events for Spielraum Bielefeld
BEGIN:VEVENT
DTSTART;TZID="Europe/Berlin":20160820T100000
DTEND;TZID="Europe/Berlin":20160820T150000
DTSTAMP:20260422T231342
CREATED:20160817T125134
LAST-MODIFIED:20160817T170553
UID:1015-1471687200-1471705200@spielraum-bielefeld.de
SUMMARY:Munchkin Crusade Turnier
DESCRIPTION:Das Turnierspiel der Munchkin Crusade 2016 ist Munchkin Steampunk.\n\nEs wird nach den aktuellen Regeln von Munchkin Steampunk gespielt. Die Einführung der „Phase 0“ (s. optionale Regeln für ein schnelleres Spiel in der Munchkin-Spielregel) ist für alle Crusade-Runden verpflichtend. Ein geteilter Sieg – ebenfalls Teil der Regeln für ein schnelleres Spiel – ist jedoch bei Crusade-Runden ausdrücklich verboten. Dies gilt nur für die Regel „Schnelleres Spiel“.
URL:http://spielraum-bielefeld.de/event/munchkin-crusade-turnier/
LOCATION:Am Sparrenberg 2\, Bielefeld\, Nordrhein-Westfalen\, 33602\, Deutschland
ATTACH;FMTTYPE=image/jpeg:http://spielraum-bielefeld.de/wp-content/uploads/2016/08/MU_Crusade_2016_Turnierpaket_01.jpg
ORGANIZER;CN="Spielraum":MAILTO:info@spielraum-bielefeld.de
END:VEVENT
END:VCALENDAR