BEGIN:VCALENDAR
VERSION:2.0
PRODID:-//Spielraum Bielefeld - ECPv4.0//NONSGML v1.0//EN
CALSCALE:GREGORIAN
METHOD:PUBLISH
X-WR-CALNAME:Spielraum Bielefeld
X-ORIGINAL-URL:http://spielraum-bielefeld.de
X-WR-CALDESC:Events for Spielraum Bielefeld
BEGIN:VEVENT
DTSTART;TZID="Europe/Berlin":20150801T090000
DTEND;TZID="Europe/Berlin":20150801T090000
DTSTAMP:20260423T030454
CREATED:20150720T194156
LAST-MODIFIED:20150720T194156
UID:341-1438419600-1438419600@spielraum-bielefeld.de
SUMMARY:Neueröffnung
DESCRIPTION:Feiert mit uns die Neueröffnung :)
URL:http://spielraum-bielefeld.de/event/neueroeffnung/
LOCATION:Am Sparrenberg 2\, Bielefeld\, Nordrhein-Westfalen\, 33602\, Deutschland
ATTACH;FMTTYPE=image/jpeg:http://spielraum-bielefeld.de/wp-content/uploads/2015/07/Neueröffnung.jpg
ORGANIZER;CN="Spielraum":MAILTO:info@spielraum-bielefeld.de
END:VEVENT
END:VCALENDAR