BEGIN:VCALENDAR
VERSION:2.0
PRODID:-//Spielraum Bielefeld - ECPv4.0//NONSGML v1.0//EN
CALSCALE:GREGORIAN
METHOD:PUBLISH
X-WR-CALNAME:Spielraum Bielefeld
X-ORIGINAL-URL:http://spielraum-bielefeld.de
X-WR-CALDESC:Events for Spielraum Bielefeld
BEGIN:VEVENT
DTSTART;TZID="Europe/Berlin":20160822T130000
DTEND;TZID="Europe/Berlin":20160822T163000
DTSTAMP:20260422T215347
CREATED:20160817T142530
LAST-MODIFIED:20160817T142530
UID:1016-1471870800-1471883400@spielraum-bielefeld.de
SUMMARY:offener Treff für Tabletops
DESCRIPTION:Warhammer Fantasy\, Warhammer 40.000\, Hordes\, Malifaux\, Warmachine\, Freebooters Fate\, ...
URL:http://spielraum-bielefeld.de/event/offener-treff-fuer-tabletops-3/
LOCATION:Am Sparrenberg 2\, Bielefeld\, Nordrhein-Westfalen\, 33602\, Deutschland
CATEGORIES:Warmachine and Hordes
ORGANIZER;CN="Spielraum":MAILTO:info@spielraum-bielefeld.de
END:VEVENT
END:VCALENDAR