BEGIN:VCALENDAR
VERSION:2.0
PRODID:-//Spielraum Bielefeld - ECPv4.0//NONSGML v1.0//EN
CALSCALE:GREGORIAN
METHOD:PUBLISH
X-WR-CALNAME:Spielraum Bielefeld
X-ORIGINAL-URL:http://spielraum-bielefeld.de
X-WR-CALDESC:Events for Spielraum Bielefeld
BEGIN:VEVENT
DTSTART;TZID="Europe/Berlin":20161004T120000
DTEND;TZID="Europe/Berlin":20161004T160000
DTSTAMP:20260422T182844
CREATED:20160930T151028
LAST-MODIFIED:20160930T151028
UID:1106-1475582400-1475596800@spielraum-bielefeld.de
SUMMARY:offener Treff für Yu-Gi-Oh
DESCRIPTION:
URL:http://spielraum-bielefeld.de/event/offener-treff-fuer-yu-gi-oh-4/
LOCATION:Am Sparrenberg 2\, Bielefeld\, Nordrhein-Westfalen\, 33602\, Deutschland
CATEGORIES:Yu-Gi-Oh
ATTACH;FMTTYPE=image/jpeg:http://spielraum-bielefeld.de/wp-content/uploads/2016/04/Yu-Gi-Oh-2016-04-XX-Millennium-Pack.jpg
ORGANIZER;CN="Spielraum":MAILTO:info@spielraum-bielefeld.de
END:VEVENT
END:VCALENDAR