BEGIN:VCALENDAR
VERSION:2.0
PRODID:-//Spielraum Bielefeld - ECPv4.0//NONSGML v1.0//EN
CALSCALE:GREGORIAN
METHOD:PUBLISH
X-WR-CALNAME:Spielraum Bielefeld
X-ORIGINAL-URL:http://spielraum-bielefeld.de
X-WR-CALDESC:Events for Spielraum Bielefeld
BEGIN:VEVENT
DTSTART;TZID="Europe/Berlin":20150809T090000
DTEND;TZID="Europe/Berlin":20150809T170000
DTSTAMP:20260422T231301
CREATED:20150702T144601
LAST-MODIFIED:20171231T112930
UID:308-1439110800-1439139600@spielraum-bielefeld.de
SUMMARY:Preliminary PTQ: Modern Turnier
DESCRIPTION:Modern-Turnier. Preliminary Pro Tour Qualifier für die erste Pro Tour 2016. Der Sieger qualifiziert sich für einen der Regional Pro Tour Qualifier (7.11.2015). Die Top 8 wird ausgespielt. Competitive Rules Enforcement Level\, Deckliste erforderlich.\n\n
URL:http://spielraum-bielefeld.de/event/pptq-modern-turnier/
LOCATION:Am Sparrenberg 2\, Bielefeld\, Nordrhein-Westfalen\, 33602\, Deutschland
CATEGORIES:Magic the Gathering
ATTACH;FMTTYPE=image/png:http://spielraum-bielefeld.de/wp-content/uploads/2015/06/Spielraum-Bielefeld-Logo-e1435336481571.png
ORGANIZER;CN="Spielraum":MAILTO:info@spielraum-bielefeld.de
END:VEVENT
END:VCALENDAR