BEGIN:VCALENDAR
VERSION:2.0
PRODID:-//Spielraum Bielefeld - ECPv4.0//NONSGML v1.0//EN
CALSCALE:GREGORIAN
METHOD:PUBLISH
X-WR-CALNAME:Spielraum Bielefeld
X-ORIGINAL-URL:http://spielraum-bielefeld.de
X-WR-CALDESC:Events for Spielraum Bielefeld
BEGIN:VEVENT
DTSTART;TZID="Europe/Berlin":20160203T173000
DTEND;TZID="Europe/Berlin":20160203T173000
DTSTAMP:20260423T045810
CREATED:20160125T192246
LAST-MODIFIED:20160125T192246
UID:588-1454520600-1454520600@spielraum-bielefeld.de
SUMMARY:Spieleabend
DESCRIPTION:Bei uns findet am 1. und 3. Mittwoch des Monats von 18:30 bis 22:00 Uhr ein Spieleabend statt :)\nDabei habt ihr die Möglichkeit Neuheiten kennenzulernen oder altbewährtes zu spielen.\nDie Termine werden im Kalender veröffentlicht und können dort kommentiert werden.\nWir bemühen uns die Neuheiten anzukündigen und eure Wünsche zu berücksichtigen.\n\nDiese Woche habt ihr die Möglichkeit Robinson Crusoe kennenzulernen :)
URL:http://spielraum-bielefeld.de/event/spieleabend-14/
LOCATION:Am Sparrenberg 2\, Bielefeld\, Nordrhein-Westfalen\, 33602\, Deutschland
CATEGORIES:Spieleabend
ATTACH;FMTTYPE=image/jpeg:http://spielraum-bielefeld.de/wp-content/uploads/2016/01/Robinson-Crusoe.jpg
ORGANIZER;CN="Spielraum":MAILTO:info@spielraum-bielefeld.de
END:VEVENT
END:VCALENDAR