BEGIN:VCALENDAR
VERSION:2.0
PRODID:-//Spielraum Bielefeld - ECPv4.0//NONSGML v1.0//EN
CALSCALE:GREGORIAN
METHOD:PUBLISH
X-WR-CALNAME:Spielraum Bielefeld
X-ORIGINAL-URL:http://spielraum-bielefeld.de
X-WR-CALDESC:Events for Spielraum Bielefeld
BEGIN:VEVENT
DTSTART;TZID="Europe/Berlin":20150722T160000
DTEND;TZID="Europe/Berlin":20150722T200000
DTSTAMP:20260423T012911
CREATED:20150720T184326
LAST-MODIFIED:20150720T185236
UID:338-1437580800-1437595200@spielraum-bielefeld.de
SUMMARY:Spieleabend
DESCRIPTION:Bei uns findet jeden zweiten Mittwoch von 18:00 bis 22:00 Uhr ein Spieleabend statt :)\nDabei habt ihr die Möglichkeit Neuheiten kennenzulernen oder altbewährtes zu spielen.\nDie Termine werden im Kalender veröffentlicht und können dort kommentiert werden.\nWir bemühen uns die Neuheiten anzukündigen und eure Wünsche zu berücksichtigen.\n\nDiese Woche habt ihr die Möglichkeit Android: Netrunner kennenzulernen :)\n
URL:http://spielraum-bielefeld.de/event/spieleabend-2/
LOCATION:Am Sparrenberg 2\, Bielefeld\, Nordrhein-Westfalen\, 33602\, Deutschland
CATEGORIES:Spieleabend
ATTACH;FMTTYPE=image/jpeg:http://spielraum-bielefeld.de/wp-content/uploads/2015/07/Android-Netrunner.jpg
ORGANIZER;CN="Spielraum":MAILTO:info@spielraum-bielefeld.de
END:VEVENT
END:VCALENDAR