BEGIN:VCALENDAR
VERSION:2.0
PRODID:-//Spielraum Bielefeld - ECPv4.0//NONSGML v1.0//EN
CALSCALE:GREGORIAN
METHOD:PUBLISH
X-WR-CALNAME:Spielraum Bielefeld
X-ORIGINAL-URL:http://spielraum-bielefeld.de
X-WR-CALDESC:Events for Spielraum Bielefeld
BEGIN:VEVENT
DTSTART;TZID="Europe/Berlin":20160409T100000
DTEND;TZID="Europe/Berlin":20160409T100000
DTSTAMP:20260422T235508
CREATED:20160410T090312
LAST-MODIFIED:20160410T090312
UID:759-1460196000-1460196000@spielraum-bielefeld.de
SUMMARY:Splittermond Rollenspiel Vorstellung
DESCRIPTION:
URL:http://spielraum-bielefeld.de/event/splittermond-rollenspiel-vorstellung/
LOCATION:Am Sparrenberg 2\, Bielefeld\, Nordrhein-Westfalen\, 33602\, Deutschland
CATEGORIES:Rollenspiel
ORGANIZER;CN="Spielraum":MAILTO:info@spielraum-bielefeld.de
END:VEVENT
END:VCALENDAR