BEGIN:VCALENDAR
VERSION:2.0
PRODID:-//Spielraum Bielefeld - ECPv4.0//NONSGML v1.0//EN
CALSCALE:GREGORIAN
METHOD:PUBLISH
X-WR-CALNAME:Spielraum Bielefeld
X-ORIGINAL-URL:http://spielraum-bielefeld.de
X-WR-CALDESC:Events for Spielraum Bielefeld
BEGIN:VEVENT
DTSTART;TZID="Europe/Berlin":20150905T100000
DTEND;TZID="Europe/Berlin":20150905T100000
DTSTAMP:20260423T010957
CREATED:20150830T091523
LAST-MODIFIED:20150830T091523
UID:396-1441447200-1441447200@spielraum-bielefeld.de
SUMMARY:Splittermond Schnuppertag
DESCRIPTION:Splittermond ist ein Pen&Paper Fantasy Rollenspiel des Uhrwerk Verlag.\n\nNutzt die Gelegenheit um mit einem offiziellen Promoter an einem Abenteuer teilzunehmen :)
URL:http://spielraum-bielefeld.de/event/splittermond-schnuppertag-2/
LOCATION:Am Sparrenberg 2\, Bielefeld\, Nordrhein-Westfalen\, 33602\, Deutschland
ATTACH;FMTTYPE=image/jpeg:http://spielraum-bielefeld.de/wp-content/uploads/2015/08/Splittermond.jpg
ORGANIZER;CN="Spielraum":MAILTO:info@spielraum-bielefeld.de
END:VEVENT
END:VCALENDAR