BEGIN:VCALENDAR
VERSION:2.0
PRODID:-//Spielraum Bielefeld - ECPv4.0//NONSGML v1.0//EN
CALSCALE:GREGORIAN
METHOD:PUBLISH
X-WR-CALNAME:Spielraum Bielefeld
X-ORIGINAL-URL:http://spielraum-bielefeld.de
X-WR-CALDESC:Events for Spielraum Bielefeld
BEGIN:VEVENT
DTSTART;TZID="Europe/Berlin":20161003T090000
DTEND;TZID="Europe/Berlin":20161003T150000
DTSTAMP:20260422T163948
CREATED:20160831T141152
LAST-MODIFIED:20160927T082142
UID:1045-1475485200-1475506800@spielraum-bielefeld.de
SUMMARY:Star Wars X-Wing Turnier
DESCRIPTION:Jägerstaffeln mit 100 Kommandopunkten\, 4 Runden ohne K.O. Runden\, höchstens 16 Teilnehmer\, bitte Voranmeldung per E-Mail\n\nEintritt für Con muss zusätzlich gezahlt werden.
URL:http://spielraum-bielefeld.de/event/star-wars-x-wing-turnier/
LOCATION:Lindemannplatz 1\, Bielefeld-Sennestadt\, 33689\, Deutschland
CATEGORIES:Star Wars: X-WING
ORGANIZER;CN="Spielraum":MAILTO:info@spielraum-bielefeld.de
END:VEVENT
END:VCALENDAR