BEGIN:VCALENDAR
VERSION:2.0
PRODID:-//Spielraum Bielefeld - ECPv4.0//NONSGML v1.0//EN
CALSCALE:GREGORIAN
METHOD:PUBLISH
X-WR-CALNAME:Spielraum Bielefeld
X-ORIGINAL-URL:http://spielraum-bielefeld.de
X-WR-CALDESC:Events for Spielraum Bielefeld
BEGIN:VEVENT
DTSTART;TZID="Europe/Berlin":20150815T100000
DTEND;TZID="Europe/Berlin":20150815T100000
DTSTAMP:20260423T010025
CREATED:20150815T090411
LAST-MODIFIED:20150815T090451
UID:370-1439632800-1439632800@spielraum-bielefeld.de
SUMMARY:Star Wars: X-WING
DESCRIPTION:
URL:http://spielraum-bielefeld.de/event/star-wars-x-wing/
LOCATION:Am Sparrenberg 2\, Bielefeld\, Nordrhein-Westfalen\, 33602\, Deutschland
CATEGORIES:Star Wars: X-WING
ATTACH;FMTTYPE=image/jpeg:http://spielraum-bielefeld.de/wp-content/uploads/2015/08/Star-Wars-X-WING.jpg
ORGANIZER;CN="Spielraum":MAILTO:info@spielraum-bielefeld.de
END:VEVENT
END:VCALENDAR