BEGIN:VCALENDAR
VERSION:2.0
PRODID:-//Spielraum Bielefeld - ECPv4.0//NONSGML v1.0//EN
CALSCALE:GREGORIAN
METHOD:PUBLISH
X-WR-CALNAME:Spielraum Bielefeld
X-ORIGINAL-URL:http://spielraum-bielefeld.de
X-WR-CALDESC:Events for Spielraum Bielefeld
BEGIN:VEVENT
DTSTART;TZID="Europe/Berlin":20160722T163000
DTEND;TZID="Europe/Berlin":20160722T213000
DTSTAMP:20260422T214229
CREATED:20160720T105942
LAST-MODIFIED:20160720T105942
UID:948-1469205000-1469223000@spielraum-bielefeld.de
SUMMARY:Two-Headed Giant Sealed Eldritch Moon
DESCRIPTION:Platz für 18 Teams\, bitte voranmelden
URL:http://spielraum-bielefeld.de/event/two-headed-giant-sealed-eldritch-moon/
LOCATION:Am Sparrenberg 2\, Bielefeld\, Nordrhein-Westfalen\, 33602\, Deutschland
CATEGORIES:Magic the Gathering
ATTACH;FMTTYPE=image/jpeg:http://spielraum-bielefeld.de/wp-content/uploads/2015/06/FNM.jpg
ORGANIZER;CN="Spielraum":MAILTO:info@spielraum-bielefeld.de
END:VEVENT
END:VCALENDAR