BEGIN:VCALENDAR
VERSION:2.0
PRODID:-//Spielraum Bielefeld - ECPv4.0//NONSGML v1.0//EN
CALSCALE:GREGORIAN
METHOD:PUBLISH
X-WR-CALNAME:Spielraum Bielefeld
X-ORIGINAL-URL:http://spielraum-bielefeld.de
X-WR-CALDESC:Events for Spielraum Bielefeld
BEGIN:VEVENT
DTSTART;TZID="Europe/Berlin":20160629T090000
DTEND;TZID="Europe/Berlin":20160629T200000
DTSTAMP:20260422T215148
CREATED:20160626T200323
LAST-MODIFIED:20160626T200323
UID:886-1467190800-1467230400@spielraum-bielefeld.de
SUMMARY:Warmachine und Hordes Mk3 Release
DESCRIPTION:geöffnet bis 22 Uhr
URL:http://spielraum-bielefeld.de/event/warmachine-und-hordes-mk3-release/
LOCATION:Am Sparrenberg 2\, Bielefeld\, Nordrhein-Westfalen\, 33602\, Deutschland
CATEGORIES:Warmachine and Hordes
ORGANIZER;CN="Spielraum":MAILTO:info@spielraum-bielefeld.de
END:VEVENT
END:VCALENDAR