BEGIN:VCALENDAR
VERSION:2.0
PRODID:-//Spielraum Bielefeld - ECPv4.0//NONSGML v1.0//EN
CALSCALE:GREGORIAN
METHOD:PUBLISH
X-WR-CALNAME:Spielraum Bielefeld
X-ORIGINAL-URL:http://spielraum-bielefeld.de
X-WR-CALDESC:Events for Spielraum Bielefeld
BEGIN:VEVENT
DTSTART;TZID="Europe/Berlin":20160731T090000
DTEND;TZID="Europe/Berlin":20160731T160000
DTSTAMP:20260422T182552
CREATED:20160720T162517
LAST-MODIFIED:20160720T162517
UID:955-1469955600-1469980800@spielraum-bielefeld.de
SUMMARY:Warmachine und Hordes Turnier
DESCRIPTION:https://www.tabletopturniere.de/t3_tournament.php?tid=17156
URL:http://spielraum-bielefeld.de/event/warmachine-und-hordes-turnier/
LOCATION:Am Sparrenberg 2\, Bielefeld\, Nordrhein-Westfalen\, 33602\, Deutschland
CATEGORIES:Warmachine and Hordes
ATTACH;FMTTYPE=image/jpeg:http://spielraum-bielefeld.de/wp-content/uploads/2015/12/Warmachine-and-Hordes.jpg
ORGANIZER;CN="Spielraum":MAILTO:info@spielraum-bielefeld.de
END:VEVENT
END:VCALENDAR