BEGIN:VCALENDAR
VERSION:2.0
PRODID:-//Spielraum Bielefeld - ECPv4.0//NONSGML v1.0//EN
CALSCALE:GREGORIAN
METHOD:PUBLISH
X-WR-CALNAME:Spielraum Bielefeld
X-ORIGINAL-URL:http://spielraum-bielefeld.de
X-WR-CALDESC:Events for Spielraum Bielefeld
BEGIN:VEVENT
DTSTART;TZID="Europe/Berlin":20160112T150000
DTEND;TZID="Europe/Berlin":20160112T150000
DTSTAMP:20260423T211526
CREATED:20151222T164341
LAST-MODIFIED:20151222T164341
UID:546-1452610800-1452610800@spielraum-bielefeld.de
SUMMARY:Yu-Gi-Oh! Turnier
DESCRIPTION:
URL:http://spielraum-bielefeld.de/event/yu-gi-oh-turnier-2/
LOCATION:Am Sparrenberg 2\, Bielefeld\, Nordrhein-Westfalen\, 33602\, Deutschland
CATEGORIES:Yu-Gi-Oh
ORGANIZER;CN="Spielraum":MAILTO:info@spielraum-bielefeld.de
END:VEVENT
END:VCALENDAR