BEGIN:VCALENDAR
VERSION:2.0
PRODID:-//Spielraum Bielefeld - ECPv4.0//NONSGML v1.0//EN
CALSCALE:GREGORIAN
METHOD:PUBLISH
X-WR-CALNAME:Spielraum Bielefeld
X-ORIGINAL-URL:http://spielraum-bielefeld.de
X-WR-CALDESC:Events for Spielraum Bielefeld
BEGIN:VEVENT
DTSTART;TZID="Europe/Berlin":20160315T140000
DTEND;TZID="Europe/Berlin":20160315T140000
DTSTAMP:20260423T070854
CREATED:20160301T160659
LAST-MODIFIED:20160301T170931
UID:660-1458050400-1458050400@spielraum-bielefeld.de
SUMMARY:Yu-Gi-Oh! (Turnier)
DESCRIPTION:
URL:http://spielraum-bielefeld.de/event/yu-gi-oh-turnier-6/
LOCATION:Am Sparrenberg 2\, Bielefeld\, Nordrhein-Westfalen\, 33602\, Deutschland
CATEGORIES:Yu-Gi-Oh
ORGANIZER;CN="Spielraum":MAILTO:info@spielraum-bielefeld.de
END:VEVENT
END:VCALENDAR